BEGIN:VCALENDAR
VERSION:2.0
PRODID:-//Columbus Soccer Organization - ECPv5.10.0//NONSGML v1.0//EN
CALSCALE:GREGORIAN
METHOD:PUBLISH
X-WR-CALNAME:Columbus Soccer Organization
X-ORIGINAL-URL:https://columbusmssoccer.org
X-WR-CALDESC:Events for Columbus Soccer Organization
BEGIN:VTIMEZONE
TZID:America/New_York
BEGIN:DAYLIGHT
TZOFFSETFROM:-0500
TZOFFSETTO:-0400
TZNAME:EDT
DTSTART:20210314T070000
END:DAYLIGHT
BEGIN:STANDARD
TZOFFSETFROM:-0400
TZOFFSETTO:-0500
TZNAME:EST
DTSTART:20211107T060000
END:STANDARD
END:VTIMEZONE
BEGIN:VEVENT
DTSTART;TZID=America/New_York:20211130T173000
DTEND;TZID=America/New_York:20211130T183000
DTSTAMP:20260421T113754
CREATED:20211129T163704Z
LAST-MODIFIED:20211129T163704Z
UID:1661-1638293400-1638297000@columbusmssoccer.org
SUMMARY:U8 Boys Training
DESCRIPTION:
URL:https://columbusmssoccer.org/calendar/u8-boys-training/
LOCATION:BankFirst
END:VEVENT
END:VCALENDAR