BEGIN:VCALENDAR
VERSION:2.0
PRODID:-//Columbus Soccer Organization - ECPv5.10.0//NONSGML v1.0//EN
CALSCALE:GREGORIAN
METHOD:PUBLISH
X-WR-CALNAME:Columbus Soccer Organization
X-ORIGINAL-URL:https://columbusmssoccer.org
X-WR-CALDESC:Events for Columbus Soccer Organization
BEGIN:VTIMEZONE
TZID:America/New_York
BEGIN:DAYLIGHT
TZOFFSETFROM:-0500
TZOFFSETTO:-0400
TZNAME:EDT
DTSTART:20210314T070000
END:DAYLIGHT
BEGIN:STANDARD
TZOFFSETFROM:-0400
TZOFFSETTO:-0500
TZNAME:EST
DTSTART:20211107T060000
END:STANDARD
END:VTIMEZONE
BEGIN:VEVENT
DTSTART;TZID=America/New_York:20211202T173000
DTEND;TZID=America/New_York:20211202T183000
DTSTAMP:20260421T113755
CREATED:20211129T163800Z
LAST-MODIFIED:20211129T163800Z
UID:1663-1638466200-1638469800@columbusmssoccer.org
SUMMARY:U8 Boys Training
DESCRIPTION:
URL:https://columbusmssoccer.org/calendar/u8-boys-training-2/
LOCATION:BankFirst
END:VEVENT
BEGIN:VEVENT
DTSTART;TZID=America/New_York:20211202T173000
DTEND;TZID=America/New_York:20211202T183000
DTSTAMP:20260421T113755
CREATED:20211130T192653Z
LAST-MODIFIED:20211130T192653Z
UID:1683-1638466200-1638469800@columbusmssoccer.org
SUMMARY:U8 Girls Development Training
DESCRIPTION:
URL:https://columbusmssoccer.org/calendar/u8-girls-development-training/
LOCATION:BankFirst
END:VEVENT
BEGIN:VEVENT
DTSTART;TZID=America/New_York:20211202T180000
DTEND;TZID=America/New_York:20211202T193000
DTSTAMP:20260421T113755
CREATED:20211130T191140Z
LAST-MODIFIED:20211130T191140Z
UID:1669-1638468000-1638473400@columbusmssoccer.org
SUMMARY:U16 Girls Training
DESCRIPTION:
URL:https://columbusmssoccer.org/calendar/u16-girls-training/
LOCATION:SDI
END:VEVENT
BEGIN:VEVENT
DTSTART;TZID=America/New_York:20211202T183000
DTEND;TZID=America/New_York:20211202T203000
DTSTAMP:20260421T113755
CREATED:20211103T143646Z
LAST-MODIFIED:20211103T143646Z
UID:1592-1638469800-1638477000@columbusmssoccer.org
SUMMARY:United U12 Match v. Starkville TFC
DESCRIPTION:
URL:https://columbusmssoccer.org/calendar/united-u12-match-v-starkville-tfc/
LOCATION:Weathers Field
END:VEVENT
END:VCALENDAR