BEGIN:VCALENDAR
VERSION:2.0
PRODID:-//Columbus Soccer Organization - ECPv5.10.0//NONSGML v1.0//EN
CALSCALE:GREGORIAN
METHOD:PUBLISH
X-WR-CALNAME:Columbus Soccer Organization
X-ORIGINAL-URL:https://columbusmssoccer.org
X-WR-CALDESC:Events for Columbus Soccer Organization
BEGIN:VTIMEZONE
TZID:America/New_York
BEGIN:DAYLIGHT
TZOFFSETFROM:-0500
TZOFFSETTO:-0400
TZNAME:EDT
DTSTART:20210314T070000
END:DAYLIGHT
BEGIN:STANDARD
TZOFFSETFROM:-0400
TZOFFSETTO:-0500
TZNAME:EST
DTSTART:20211107T060000
END:STANDARD
END:VTIMEZONE
BEGIN:VEVENT
DTSTART;TZID=America/New_York:20211204T150000
DTEND;TZID=America/New_York:20211204T170000
DTSTAMP:20260422T063023
CREATED:20211127T172939Z
LAST-MODIFIED:20211127T172939Z
UID:1639-1638630000-1638637200@columbusmssoccer.org
SUMMARY:U9/U10 Boys Training
DESCRIPTION:
URL:https://columbusmssoccer.org/calendar/u9-u10-boys-training/
LOCATION:Lowdes County Soccer Complex\, 406 N 3rd St\, Columbus\, MS\, 39701\, United States
END:VEVENT
BEGIN:VEVENT
DTSTART;TZID=America/New_York:20211204T150000
DTEND;TZID=America/New_York:20211204T170000
DTSTAMP:20260422T063024
CREATED:20211127T173219Z
LAST-MODIFIED:20211127T173219Z
UID:1641-1638630000-1638637200@columbusmssoccer.org
SUMMARY:United U9/U10 boys Open Evaluation Session
DESCRIPTION:Any male players born in 2012 or 2013 are invited to attend this evaluation period for open roster spots on the United U9 and the United U10 boys’ teams. There is no charge and no pre-registration is necessary.
URL:https://columbusmssoccer.org/calendar/united-u9-u10-boys-open-evaluation-session/
LOCATION:Lowdes County Soccer Complex\, 406 N 3rd St\, Columbus\, MS\, 39701\, United States
END:VEVENT
END:VCALENDAR