BEGIN:VCALENDAR
VERSION:2.0
PRODID:-//Columbus Soccer Organization - ECPv5.10.0//NONSGML v1.0//EN
CALSCALE:GREGORIAN
METHOD:PUBLISH
X-WR-CALNAME:Columbus Soccer Organization
X-ORIGINAL-URL:https://columbusmssoccer.org
X-WR-CALDESC:Events for Columbus Soccer Organization
BEGIN:VTIMEZONE
TZID:America/New_York
BEGIN:DAYLIGHT
TZOFFSETFROM:-0500
TZOFFSETTO:-0400
TZNAME:EDT
DTSTART:20210314T070000
END:DAYLIGHT
BEGIN:STANDARD
TZOFFSETFROM:-0400
TZOFFSETTO:-0500
TZNAME:EST
DTSTART:20211107T060000
END:STANDARD
END:VTIMEZONE
BEGIN:VEVENT
DTSTART;TZID=America/New_York:20211209T173000
DTEND;TZID=America/New_York:20211209T183000
DTSTAMP:20260423T031751
CREATED:20211130T192811Z
LAST-MODIFIED:20211130T192811Z
UID:1687-1639071000-1639074600@columbusmssoccer.org
SUMMARY:U8 Girls Development Training
DESCRIPTION:
URL:https://columbusmssoccer.org/calendar/u8-girls-development-training-3/
LOCATION:BankFirst
END:VEVENT
BEGIN:VEVENT
DTSTART;TZID=America/New_York:20211209T180000
DTEND;TZID=America/New_York:20211209T193000
DTSTAMP:20260423T031751
CREATED:20211130T191300Z
LAST-MODIFIED:20211130T191300Z
UID:1673-1639072800-1639078200@columbusmssoccer.org
SUMMARY:U16 Girls Training
DESCRIPTION:
URL:https://columbusmssoccer.org/calendar/u16-girls-training-3/
LOCATION:SDI
END:VEVENT
END:VCALENDAR