BEGIN:VCALENDAR
VERSION:2.0
PRODID:-//Columbus Soccer Organization - ECPv5.10.0//NONSGML v1.0//EN
CALSCALE:GREGORIAN
METHOD:PUBLISH
X-WR-CALNAME:Columbus Soccer Organization
X-ORIGINAL-URL:https://columbusmssoccer.org
X-WR-CALDESC:Events for Columbus Soccer Organization
BEGIN:VTIMEZONE
TZID:America/New_York
BEGIN:DAYLIGHT
TZOFFSETFROM:-0500
TZOFFSETTO:-0400
TZNAME:EDT
DTSTART:20210314T070000
END:DAYLIGHT
BEGIN:STANDARD
TZOFFSETFROM:-0400
TZOFFSETTO:-0500
TZNAME:EST
DTSTART:20211107T060000
END:STANDARD
END:VTIMEZONE
BEGIN:VEVENT
DTSTART;TZID=America/New_York:20211212T140000
DTEND;TZID=America/New_York:20211212T153000
DTSTAMP:20260421T104013
CREATED:20211129T162413Z
LAST-MODIFIED:20211129T162548Z
UID:1657-1639317600-1639323000@columbusmssoccer.org
SUMMARY:U12 Girls Training
DESCRIPTION:
URL:https://columbusmssoccer.org/calendar/u12-girls-training-2/
LOCATION:Lowdes County Soccer Complex\, 406 N 3rd St\, Columbus\, MS\, 39701\, United States
END:VEVENT
BEGIN:VEVENT
DTSTART;TZID=America/New_York:20211212T140000
DTEND;TZID=America/New_York:20211212T160000
DTSTAMP:20260421T104013
CREATED:20211101T142012Z
LAST-MODIFIED:20211101T142012Z
UID:1563-1639317600-1639324800@columbusmssoccer.org
SUMMARY:United U14 Girls Training
DESCRIPTION:
URL:https://columbusmssoccer.org/calendar/united-u14-girls-training-7/
LOCATION:SDI
END:VEVENT
BEGIN:VEVENT
DTSTART;TZID=America/New_York:20211212T150000
DTEND;TZID=America/New_York:20211212T163000
DTSTAMP:20260421T104013
CREATED:20211107T172115Z
LAST-MODIFIED:20211107T172115Z
UID:1610-1639321200-1639326600@columbusmssoccer.org
SUMMARY:United U9/U10 Boys Training
DESCRIPTION:
URL:https://columbusmssoccer.org/calendar/united-u9-u10-boys-training-4/
LOCATION:SDI
END:VEVENT
BEGIN:VEVENT
DTSTART;TZID=America/New_York:20211212T150000
DTEND;TZID=America/New_York:20211212T170000
DTSTAMP:20260421T104013
CREATED:20211127T173320Z
LAST-MODIFIED:20211127T173320Z
UID:1643-1639321200-1639328400@columbusmssoccer.org
SUMMARY:U9/U10 Boys Training
DESCRIPTION:
URL:https://columbusmssoccer.org/calendar/u9-u10-boys-training-2/
LOCATION:Lowdes County Soccer Complex\, 406 N 3rd St\, Columbus\, MS\, 39701\, United States
END:VEVENT
END:VCALENDAR