BEGIN:VCALENDAR
VERSION:2.0
PRODID:-//Columbus Soccer Organization - ECPv5.10.0//NONSGML v1.0//EN
CALSCALE:GREGORIAN
METHOD:PUBLISH
X-WR-CALNAME:Columbus Soccer Organization
X-ORIGINAL-URL:https://columbusmssoccer.org
X-WR-CALDESC:Events for Columbus Soccer Organization
BEGIN:VTIMEZONE
TZID:America/New_York
BEGIN:DAYLIGHT
TZOFFSETFROM:-0500
TZOFFSETTO:-0400
TZNAME:EDT
DTSTART:20210314T070000
END:DAYLIGHT
BEGIN:STANDARD
TZOFFSETFROM:-0400
TZOFFSETTO:-0500
TZNAME:EST
DTSTART:20211107T060000
END:STANDARD
END:VTIMEZONE
BEGIN:VEVENT
DTSTART;TZID=America/New_York:20211216T173000
DTEND;TZID=America/New_York:20211216T183000
DTSTAMP:20260421T223245
CREATED:20211130T192930Z
LAST-MODIFIED:20211130T192930Z
UID:1691-1639675800-1639679400@columbusmssoccer.org
SUMMARY:U8 Girls Development Training
DESCRIPTION:
URL:https://columbusmssoccer.org/calendar/u8-girls-development-training-5/
LOCATION:BankFirst
END:VEVENT
END:VCALENDAR