BEGIN:VCALENDAR
VERSION:2.0
PRODID:-//Columbus Soccer Organization - ECPv5.10.0//NONSGML v1.0//EN
CALSCALE:GREGORIAN
METHOD:PUBLISH
X-WR-CALNAME:Columbus Soccer Organization
X-ORIGINAL-URL:https://columbusmssoccer.org
X-WR-CALDESC:Events for Columbus Soccer Organization
BEGIN:VTIMEZONE
TZID:America/New_York
BEGIN:DAYLIGHT
TZOFFSETFROM:-0500
TZOFFSETTO:-0400
TZNAME:EDT
DTSTART:20220313T070000
END:DAYLIGHT
BEGIN:STANDARD
TZOFFSETFROM:-0400
TZOFFSETTO:-0500
TZNAME:EST
DTSTART:20221106T060000
END:STANDARD
END:VTIMEZONE
BEGIN:VEVENT
DTSTART;TZID=America/New_York:20220127T173000
DTEND;TZID=America/New_York:20220127T203000
DTSTAMP:20260421T034254
CREATED:20220110T162426Z
LAST-MODIFIED:20220110T162426Z
UID:1856-1643304600-1643315400@columbusmssoccer.org
SUMMARY:U10/U12 Girls Training
DESCRIPTION:
URL:https://columbusmssoccer.org/calendar/u10-u12-girls-training-6/
END:VEVENT
BEGIN:VEVENT
DTSTART;TZID=America/New_York:20220127T174500
DTEND;TZID=America/New_York:20220127T184500
DTSTAMP:20260421T034254
CREATED:20220102T195115Z
LAST-MODIFIED:20220102T195115Z
UID:1777-1643305500-1643309100@columbusmssoccer.org
SUMMARY:U8 Boys Training
DESCRIPTION:
URL:https://columbusmssoccer.org/calendar/u8-boys-training-10/
LOCATION:BankFirst
END:VEVENT
BEGIN:VEVENT
DTSTART;TZID=America/New_York:20220127T180000
DTEND;TZID=America/New_York:20220127T193000
DTSTAMP:20260421T034254
CREATED:20220102T194957Z
LAST-MODIFIED:20220102T194957Z
UID:1773-1643306400-1643311800@columbusmssoccer.org
SUMMARY:U12 Boys Training
DESCRIPTION:
URL:https://columbusmssoccer.org/calendar/u12-boys-training-8/
LOCATION:Sprint Mart #1
END:VEVENT
BEGIN:VEVENT
DTSTART;TZID=America/New_York:20220127T180000
DTEND;TZID=America/New_York:20220127T193000
DTSTAMP:20260421T034254
CREATED:20220102T204544Z
LAST-MODIFIED:20220105T213225Z
UID:1779-1643306400-1643311800@columbusmssoccer.org
SUMMARY:U13 Girls Training
DESCRIPTION:
URL:https://columbusmssoccer.org/calendar/u14-girls-training-5/
LOCATION:SDI
END:VEVENT
BEGIN:VEVENT
DTSTART;TZID=America/New_York:20220127T183000
DTEND;TZID=America/New_York:20220127T200000
DTSTAMP:20260421T034254
CREATED:20220110T161701Z
LAST-MODIFIED:20220110T161701Z
UID:1844-1643308200-1643313600@columbusmssoccer.org
SUMMARY:U12 Girls (GT) Training
DESCRIPTION:
URL:https://columbusmssoccer.org/calendar/u12-girls-gt-training-6/
LOCATION:Bank of Vernon
END:VEVENT
END:VCALENDAR