BEGIN:VCALENDAR
VERSION:2.0
PRODID:-//Columbus Soccer Organization - ECPv5.10.0//NONSGML v1.0//EN
CALSCALE:GREGORIAN
METHOD:PUBLISH
X-WR-CALNAME:Columbus Soccer Organization
X-ORIGINAL-URL:https://columbusmssoccer.org
X-WR-CALDESC:Events for Columbus Soccer Organization
BEGIN:VTIMEZONE
TZID:America/New_York
BEGIN:DAYLIGHT
TZOFFSETFROM:-0500
TZOFFSETTO:-0400
TZNAME:EDT
DTSTART:20220313T070000
END:DAYLIGHT
BEGIN:STANDARD
TZOFFSETFROM:-0400
TZOFFSETTO:-0500
TZNAME:EST
DTSTART:20221106T060000
END:STANDARD
END:VTIMEZONE
BEGIN:VEVENT
DTSTART;TZID=America/New_York:20220201T180000
DTEND;TZID=America/New_York:20220201T191500
DTSTAMP:20260420T063904
CREATED:20220131T160844Z
LAST-MODIFIED:20220131T160844Z
UID:1951-1643738400-1643742900@columbusmssoccer.org
SUMMARY:U9 Boys Training
DESCRIPTION:
URL:https://columbusmssoccer.org/calendar/u9-boys-training-3/
LOCATION:Sprint Mart #1
END:VEVENT
BEGIN:VEVENT
DTSTART;TZID=America/New_York:20220201T180000
DTEND;TZID=America/New_York:20220201T193000
DTSTAMP:20260420T063904
CREATED:20220102T204632Z
LAST-MODIFIED:20220102T204632Z
UID:1781-1643738400-1643743800@columbusmssoccer.org
SUMMARY:U14 Girls Training
DESCRIPTION:
URL:https://columbusmssoccer.org/calendar/u14-girls-training-6/
LOCATION:SDI
END:VEVENT
BEGIN:VEVENT
DTSTART;TZID=America/New_York:20220201T180000
DTEND;TZID=America/New_York:20220201T193000
DTSTAMP:20260420T063905
CREATED:20220103T202139Z
LAST-MODIFIED:20220201T194856Z
UID:1811-1643738400-1643743800@columbusmssoccer.org
SUMMARY:U10 Boys Training
DESCRIPTION:
URL:https://columbusmssoccer.org/calendar/u10-boys-training-7/
LOCATION:Sprint Mart #1
END:VEVENT
BEGIN:VEVENT
DTSTART;TZID=America/New_York:20220201T180000
DTEND;TZID=America/New_York:20220201T193000
DTSTAMP:20260420T063905
CREATED:20220131T161045Z
LAST-MODIFIED:20220131T163331Z
UID:1957-1643738400-1643743800@columbusmssoccer.org
SUMMARY:U16 Girls Training
DESCRIPTION:
URL:https://columbusmssoccer.org/calendar/u9-boys-training-6/
LOCATION:SDI
END:VEVENT
BEGIN:VEVENT
DTSTART;TZID=America/New_York:20220201T180000
DTEND;TZID=America/New_York:20220201T193000
DTSTAMP:20260420T063905
CREATED:20220201T185102Z
LAST-MODIFIED:20220201T185337Z
UID:2034-1643738400-1643743800@columbusmssoccer.org
SUMMARY:U12 Boys Training
DESCRIPTION:
URL:https://columbusmssoccer.org/calendar/u8-boys-training-11/
LOCATION:Sprint Mart #1
END:VEVENT
BEGIN:VEVENT
DTSTART;TZID=America/New_York:20220201T183000
DTEND;TZID=America/New_York:20220201T200000
DTSTAMP:20260420T063905
CREATED:20220131T171911Z
LAST-MODIFIED:20220131T171911Z
UID:2018-1643740200-1643745600@columbusmssoccer.org
SUMMARY:U13 Girls Training
DESCRIPTION:
URL:https://columbusmssoccer.org/calendar/u13-girls-training-10/
LOCATION:Bank of Vernon
END:VEVENT
BEGIN:VEVENT
DTSTART;TZID=America/New_York:20220201T183000
DTEND;TZID=America/New_York:20220201T200000
DTSTAMP:20260420T063905
CREATED:20220201T195405Z
LAST-MODIFIED:20220201T195405Z
UID:2086-1643740200-1643745600@columbusmssoccer.org
SUMMARY:U12 Girls (G.T.) Training
DESCRIPTION:
URL:https://columbusmssoccer.org/calendar/u12-girls-g-t-training/
LOCATION:Bank of Vernon
END:VEVENT
END:VCALENDAR