BEGIN:VCALENDAR
VERSION:2.0
PRODID:-//Columbus Soccer Organization - ECPv5.10.0//NONSGML v1.0//EN
CALSCALE:GREGORIAN
METHOD:PUBLISH
X-WR-CALNAME:Columbus Soccer Organization
X-ORIGINAL-URL:https://columbusmssoccer.org
X-WR-CALDESC:Events for Columbus Soccer Organization
BEGIN:VTIMEZONE
TZID:America/New_York
BEGIN:DAYLIGHT
TZOFFSETFROM:-0500
TZOFFSETTO:-0400
TZNAME:EDT
DTSTART:20220313T070000
END:DAYLIGHT
BEGIN:STANDARD
TZOFFSETFROM:-0400
TZOFFSETTO:-0500
TZNAME:EST
DTSTART:20221106T060000
END:STANDARD
END:VTIMEZONE
BEGIN:VEVENT
DTSTART;TZID=America/New_York:20220202T180000
DTEND;TZID=America/New_York:20220202T193000
DTSTAMP:20260420T063908
CREATED:20220102T180521Z
LAST-MODIFIED:20220102T180521Z
UID:1738-1643824800-1643830200@columbusmssoccer.org
SUMMARY:U14 Boys Training
DESCRIPTION:
URL:https://columbusmssoccer.org/calendar/u14-boys-training-8/
LOCATION:SDI
END:VEVENT
BEGIN:VEVENT
DTSTART;TZID=America/New_York:20220202T183000
DTEND;TZID=America/New_York:20220202T200000
DTSTAMP:20260420T063908
CREATED:20220128T175000Z
LAST-MODIFIED:20220128T175000Z
UID:1912-1643826600-1643832000@columbusmssoccer.org
SUMMARY:Adult League Open Training
DESCRIPTION:
URL:https://columbusmssoccer.org/calendar/adult-league-open-training/
LOCATION:SDI
END:VEVENT
END:VCALENDAR