BEGIN:VCALENDAR
VERSION:2.0
PRODID:-//Columbus Soccer Organization - ECPv5.10.0//NONSGML v1.0//EN
CALSCALE:GREGORIAN
METHOD:PUBLISH
X-WR-CALNAME:Columbus Soccer Organization
X-ORIGINAL-URL:https://columbusmssoccer.org
X-WR-CALDESC:Events for Columbus Soccer Organization
BEGIN:VTIMEZONE
TZID:America/New_York
BEGIN:DAYLIGHT
TZOFFSETFROM:-0500
TZOFFSETTO:-0400
TZNAME:EDT
DTSTART:20230312T070000
END:DAYLIGHT
BEGIN:STANDARD
TZOFFSETFROM:-0400
TZOFFSETTO:-0500
TZNAME:EST
DTSTART:20231105T060000
END:STANDARD
END:VTIMEZONE
BEGIN:VEVENT
DTSTART;TZID=America/New_York:20230612T090000
DTEND;TZID=America/New_York:20230615T110000
DTSTAMP:20260419T200134
CREATED:20230424T213313Z
LAST-MODIFIED:20230424T214018Z
UID:3435-1686560400-1686826800@columbusmssoccer.org
SUMMARY:Palmer Home Soccer Camp
DESCRIPTION:
URL:https://columbusmssoccer.org/calendar/palmer-home-soccer-camp/
LOCATION:Lowdes County Soccer Complex\, 406 N 3rd St\, Columbus\, MS\, 39701\, United States
END:VEVENT
BEGIN:VEVENT
DTSTART;TZID=America/New_York:20230612T090000
DTEND;TZID=America/New_York:20230616T230000
DTSTAMP:20260419T200134
CREATED:20230424T213447Z
LAST-MODIFIED:20230424T214123Z
UID:3437-1686560400-1686956400@columbusmssoccer.org
SUMMARY:Community Soccer Skills & Tactics Camp
DESCRIPTION:
URL:https://columbusmssoccer.org/calendar/community-soccer-skills-tactics-camp/
END:VEVENT
BEGIN:VEVENT
DTSTART;TZID=America/New_York:20230612T180000
DTEND;TZID=America/New_York:20230616T200000
DTSTAMP:20260419T200134
CREATED:20230424T213536Z
LAST-MODIFIED:20230424T214050Z
UID:3439-1686592800-1686945600@columbusmssoccer.org
SUMMARY:United & United-Alliance Elite Soccer Skills Camp
DESCRIPTION:
URL:https://columbusmssoccer.org/calendar/united-united-alliance-elite-soccer-skills-camp/
LOCATION:Lowdes County Soccer Complex\, 406 N 3rd St\, Columbus\, MS\, 39701\, United States
END:VEVENT
END:VCALENDAR