BEGIN:VCALENDAR
VERSION:2.0
PRODID:-//Columbus Soccer Organization - ECPv5.10.0//NONSGML v1.0//EN
CALSCALE:GREGORIAN
METHOD:PUBLISH
X-WR-CALNAME:Columbus Soccer Organization
X-ORIGINAL-URL:https://columbusmssoccer.org
X-WR-CALDESC:Events for Columbus Soccer Organization
BEGIN:VTIMEZONE
TZID:America/New_York
BEGIN:DAYLIGHT
TZOFFSETFROM:-0500
TZOFFSETTO:-0400
TZNAME:EDT
DTSTART:20230312T070000
END:DAYLIGHT
BEGIN:STANDARD
TZOFFSETFROM:-0400
TZOFFSETTO:-0500
TZNAME:EST
DTSTART:20231105T060000
END:STANDARD
END:VTIMEZONE
BEGIN:VEVENT
DTSTART;TZID=America/New_York:20230823T180000
DTEND;TZID=America/New_York:20230823T193000
DTSTAMP:20260421T223229
CREATED:20230806T195621Z
LAST-MODIFIED:20230806T195621Z
UID:3698-1692813600-1692819000@columbusmssoccer.org
SUMMARY:United U15 Boys Training
DESCRIPTION:
URL:https://columbusmssoccer.org/calendar/united-u15-boys-training-7/
LOCATION:SDI
END:VEVENT
BEGIN:VEVENT
DTSTART;TZID=America/New_York:20230823T190000
DTEND;TZID=America/New_York:20230823T220000
DTSTAMP:20260421T223229
CREATED:20230806T183848Z
LAST-MODIFIED:20230806T183848Z
UID:3619-1692817200-1692828000@columbusmssoccer.org
SUMMARY:MUW Men's Training
DESCRIPTION:
URL:https://columbusmssoccer.org/calendar/muw-mens-training-7/
LOCATION:Family Pharmacy
END:VEVENT
BEGIN:VEVENT
DTSTART;TZID=America/New_York:20230823T203000
DTEND;TZID=America/New_York:20230823T220000
DTSTAMP:20260421T223229
CREATED:20230822T174917Z
LAST-MODIFIED:20230822T174917Z
UID:3814-1692822600-1692828000@columbusmssoccer.org
SUMMARY:MUW Women's Training
DESCRIPTION:
URL:https://columbusmssoccer.org/calendar/muw-womens-training-24/
LOCATION:Family Pharmacy
END:VEVENT
END:VCALENDAR