BEGIN:VCALENDAR
VERSION:2.0
PRODID:-//Columbus Soccer Organization - ECPv5.10.0//NONSGML v1.0//EN
CALSCALE:GREGORIAN
METHOD:PUBLISH
X-WR-CALNAME:Columbus Soccer Organization
X-ORIGINAL-URL:https://columbusmssoccer.org
X-WR-CALDESC:Events for Columbus Soccer Organization
BEGIN:VTIMEZONE
TZID:America/New_York
BEGIN:DAYLIGHT
TZOFFSETFROM:-0500
TZOFFSETTO:-0400
TZNAME:EDT
DTSTART:20230312T070000
END:DAYLIGHT
BEGIN:STANDARD
TZOFFSETFROM:-0400
TZOFFSETTO:-0500
TZNAME:EST
DTSTART:20231105T060000
END:STANDARD
END:VTIMEZONE
BEGIN:VEVENT
DTSTART;TZID=America/New_York:20230824T150000
DTEND;TZID=America/New_York:20230824T170000
DTSTAMP:20260421T190704
CREATED:20230822T174950Z
LAST-MODIFIED:20230822T174950Z
UID:3816-1692889200-1692896400@columbusmssoccer.org
SUMMARY:MUW Women's Training
DESCRIPTION:
URL:https://columbusmssoccer.org/calendar/muw-womens-training-25/
LOCATION:Allegro
END:VEVENT
BEGIN:VEVENT
DTSTART;TZID=America/New_York:20230824T180000
DTEND;TZID=America/New_York:20230824T193000
DTSTAMP:20260421T190704
CREATED:20230822T184712Z
LAST-MODIFIED:20230822T184712Z
UID:3828-1692900000-1692905400@columbusmssoccer.org
SUMMARY:United U12 Girls Training
DESCRIPTION:
URL:https://columbusmssoccer.org/calendar/united-u12-girls-training/
LOCATION:Weathers Field
END:VEVENT
BEGIN:VEVENT
DTSTART;TZID=America/New_York:20230824T183000
DTEND;TZID=America/New_York:20230824T200000
DTSTAMP:20260421T190704
CREATED:20230822T185707Z
LAST-MODIFIED:20230822T185707Z
UID:3848-1692901800-1692907200@columbusmssoccer.org
SUMMARY:United U12 Boys Training
DESCRIPTION:
URL:https://columbusmssoccer.org/calendar/united-u12-boys-training-13/
LOCATION:Weathers Field
END:VEVENT
BEGIN:VEVENT
DTSTART;TZID=America/New_York:20230824T183000
DTEND;TZID=America/New_York:20230824T203000
DTSTAMP:20260421T190704
CREATED:20230815T193840Z
LAST-MODIFIED:20230815T193840Z
UID:3744-1692901800-1692909000@columbusmssoccer.org
SUMMARY:United U15 Girls/U14 Boys
DESCRIPTION:Tuesdays: Girls 6.30-7.30\, Boys 7.30-8.30\nThursday: Boys 6.30-7.30\, Girls 7.30-8.30
URL:https://columbusmssoccer.org/calendar/united-u15-girls-u14-boys-4/
LOCATION:SDI
END:VEVENT
BEGIN:VEVENT
DTSTART;TZID=America/New_York:20230824T190000
DTEND;TZID=America/New_York:20230824T220000
DTSTAMP:20260421T190704
CREATED:20230806T183927Z
LAST-MODIFIED:20230806T183927Z
UID:3621-1692903600-1692914400@columbusmssoccer.org
SUMMARY:MUW Men's Training
DESCRIPTION:
URL:https://columbusmssoccer.org/calendar/muw-mens-training-8/
LOCATION:Family Pharmacy
END:VEVENT
END:VCALENDAR