BEGIN:VCALENDAR
VERSION:2.0
PRODID:-//Columbus Soccer Organization - ECPv5.10.0//NONSGML v1.0//EN
CALSCALE:GREGORIAN
METHOD:PUBLISH
X-WR-CALNAME:Columbus Soccer Organization
X-ORIGINAL-URL:https://columbusmssoccer.org
X-WR-CALDESC:Events for Columbus Soccer Organization
BEGIN:VTIMEZONE
TZID:America/New_York
BEGIN:DAYLIGHT
TZOFFSETFROM:-0500
TZOFFSETTO:-0400
TZNAME:EDT
DTSTART:20230312T070000
END:DAYLIGHT
BEGIN:STANDARD
TZOFFSETFROM:-0400
TZOFFSETTO:-0500
TZNAME:EST
DTSTART:20231105T060000
END:STANDARD
END:VTIMEZONE
BEGIN:VEVENT
DTSTART;VALUE=DATE:20230904
DTEND;VALUE=DATE:20230905
DTSTAMP:20260421T215228
CREATED:20230806T200810Z
LAST-MODIFIED:20230806T200810Z
UID:3712-1693785600-1693871999@columbusmssoccer.org
SUMMARY:Labor Day--Complex Fields Closed
DESCRIPTION:
URL:https://columbusmssoccer.org/calendar/labor-day-complex-fields-closed/
LOCATION:Roger Short Soccer Complex
END:VEVENT
BEGIN:VEVENT
DTSTART;TZID=America/New_York:20230904T190000
DTEND;TZID=America/New_York:20230904T220000
DTSTAMP:20260421T215228
CREATED:20230806T184342Z
LAST-MODIFIED:20230806T184342Z
UID:3629-1693854000-1693864800@columbusmssoccer.org
SUMMARY:MUW Men's Training
DESCRIPTION:
URL:https://columbusmssoccer.org/calendar/muw-mens-training-12/
LOCATION:Family Pharmacy
END:VEVENT
END:VCALENDAR