BEGIN:VCALENDAR
VERSION:2.0
PRODID:-//Columbus Soccer Organization - ECPv5.10.0//NONSGML v1.0//EN
CALSCALE:GREGORIAN
METHOD:PUBLISH
X-WR-CALNAME:Columbus Soccer Organization
X-ORIGINAL-URL:https://columbusmssoccer.org
X-WR-CALDESC:Events for Columbus Soccer Organization
BEGIN:VTIMEZONE
TZID:America/New_York
BEGIN:DAYLIGHT
TZOFFSETFROM:-0500
TZOFFSETTO:-0400
TZNAME:EDT
DTSTART:20230312T070000
END:DAYLIGHT
BEGIN:STANDARD
TZOFFSETFROM:-0400
TZOFFSETTO:-0500
TZNAME:EST
DTSTART:20231105T060000
END:STANDARD
END:VTIMEZONE
BEGIN:VEVENT
DTSTART;TZID=America/New_York:20230911T180000
DTEND;TZID=America/New_York:20230911T193000
DTSTAMP:20260421T215421
CREATED:20230822T185058Z
LAST-MODIFIED:20230822T185058Z
UID:3836-1694455200-1694460600@columbusmssoccer.org
SUMMARY:United U12 Girls Training
DESCRIPTION:
URL:https://columbusmssoccer.org/calendar/united-u12-girls-training-5/
LOCATION:Weathers Field
END:VEVENT
BEGIN:VEVENT
DTSTART;TZID=America/New_York:20230911T180000
DTEND;TZID=America/New_York:20230911T193000
DTSTAMP:20260421T215421
CREATED:20230828T124903Z
LAST-MODIFIED:20230828T124903Z
UID:3879-1694455200-1694460600@columbusmssoccer.org
SUMMARY:United U10 Girls Training
DESCRIPTION:
URL:https://columbusmssoccer.org/calendar/united-u10-girls-training-30/
LOCATION:Cadence Field
END:VEVENT
BEGIN:VEVENT
DTSTART;TZID=America/New_York:20230911T183000
DTEND;TZID=America/New_York:20230911T200000
DTSTAMP:20260421T215421
CREATED:20230822T185928Z
LAST-MODIFIED:20230822T185928Z
UID:3856-1694457000-1694462400@columbusmssoccer.org
SUMMARY:United U12 Boys Training
DESCRIPTION:
URL:https://columbusmssoccer.org/calendar/united-u12-boys-training-17/
LOCATION:Weathers Field
END:VEVENT
BEGIN:VEVENT
DTSTART;TZID=America/New_York:20230911T190000
DTEND;TZID=America/New_York:20230911T220000
DTSTAMP:20260421T215421
CREATED:20230806T184652Z
LAST-MODIFIED:20230806T184652Z
UID:3637-1694458800-1694469600@columbusmssoccer.org
SUMMARY:MUW Men's Training
DESCRIPTION:
URL:https://columbusmssoccer.org/calendar/muw-mens-training-16/
LOCATION:Family Pharmacy
END:VEVENT
END:VCALENDAR