BEGIN:VCALENDAR
VERSION:2.0
PRODID:-//Columbus Soccer Organization - ECPv5.10.0//NONSGML v1.0//EN
CALSCALE:GREGORIAN
METHOD:PUBLISH
X-WR-CALNAME:Columbus Soccer Organization
X-ORIGINAL-URL:https://columbusmssoccer.org
X-WR-CALDESC:Events for Columbus Soccer Organization
BEGIN:VTIMEZONE
TZID:America/New_York
BEGIN:DAYLIGHT
TZOFFSETFROM:-0500
TZOFFSETTO:-0400
TZNAME:EDT
DTSTART:20230312T070000
END:DAYLIGHT
BEGIN:STANDARD
TZOFFSETFROM:-0400
TZOFFSETTO:-0500
TZNAME:EST
DTSTART:20231105T060000
END:STANDARD
END:VTIMEZONE
BEGIN:VEVENT
DTSTART;TZID=America/New_York:20230919T140000
DTEND;TZID=America/New_York:20230919T153000
DTSTAMP:20260423T031750
CREATED:20230806T192907Z
LAST-MODIFIED:20230806T192907Z
UID:3682-1695132000-1695137400@columbusmssoccer.org
SUMMARY:United U10 Boys Training
DESCRIPTION:
URL:https://columbusmssoccer.org/calendar/united-u10-boys-training-14/
LOCATION:FCA
END:VEVENT
BEGIN:VEVENT
DTSTART;TZID=America/New_York:20230919T180000
DTEND;TZID=America/New_York:20230919T193000
DTSTAMP:20260423T031750
CREATED:20230828T125150Z
LAST-MODIFIED:20230828T125150Z
UID:3886-1695146400-1695151800@columbusmssoccer.org
SUMMARY:United U10 Girls Training
DESCRIPTION:
URL:https://columbusmssoccer.org/calendar/united-u10-girls-training-33/
LOCATION:Cadence Field
END:VEVENT
BEGIN:VEVENT
DTSTART;TZID=America/New_York:20230919T180000
DTEND;TZID=America/New_York:20230919T193000
DTSTAMP:20260423T031750
CREATED:20230912T131509Z
LAST-MODIFIED:20230912T131509Z
UID:3948-1695146400-1695151800@columbusmssoccer.org
SUMMARY:United U18 Girls Training
DESCRIPTION:
URL:https://columbusmssoccer.org/calendar/united-u18-girls-training-5/
LOCATION:SDI
END:VEVENT
BEGIN:VEVENT
DTSTART;TZID=America/New_York:20230919T180000
DTEND;TZID=America/New_York:20230919T200000
DTSTAMP:20260423T031750
CREATED:20230806T201712Z
LAST-MODIFIED:20230806T201712Z
UID:3733-1695146400-1695153600@columbusmssoccer.org
SUMMARY:United U13 Girls Training
DESCRIPTION:
URL:https://columbusmssoccer.org/calendar/united-u13-girls-training-13/
LOCATION:SDI
END:VEVENT
BEGIN:VEVENT
DTSTART;TZID=America/New_York:20230919T183000
DTEND;TZID=America/New_York:20230919T200000
DTSTAMP:20260423T031750
CREATED:20230815T212108Z
LAST-MODIFIED:20230815T212108Z
UID:3758-1695148200-1695153600@columbusmssoccer.org
SUMMARY:United U15 Girls/U14 Boys
DESCRIPTION:Tuesdays: Girls 6.30-7.30\, Boys 7.30-8.30\nThursday: Boys 6.30-7.30\, Girls 7.30-8.30
URL:https://columbusmssoccer.org/calendar/united-u15-girls-u14-boys-11/
LOCATION:Bank of Vernon
END:VEVENT
BEGIN:VEVENT
DTSTART;TZID=America/New_York:20230919T190000
DTEND;TZID=America/New_York:20230919T220000
DTSTAMP:20260423T031750
CREATED:20230806T185036Z
LAST-MODIFIED:20230806T185036Z
UID:3645-1695150000-1695160800@columbusmssoccer.org
SUMMARY:MUW Men's Training
DESCRIPTION:
URL:https://columbusmssoccer.org/calendar/muw-mens-training-20/
LOCATION:Family Pharmacy
END:VEVENT
END:VCALENDAR