BEGIN:VCALENDAR
VERSION:2.0
PRODID:-//Columbus Soccer Organization - ECPv5.10.0//NONSGML v1.0//EN
CALSCALE:GREGORIAN
METHOD:PUBLISH
X-WR-CALNAME:Columbus Soccer Organization
X-ORIGINAL-URL:https://columbusmssoccer.org
X-WR-CALDESC:Events for Columbus Soccer Organization
BEGIN:VTIMEZONE
TZID:America/New_York
BEGIN:DAYLIGHT
TZOFFSETFROM:-0500
TZOFFSETTO:-0400
TZNAME:EDT
DTSTART:20230312T070000
END:DAYLIGHT
BEGIN:STANDARD
TZOFFSETFROM:-0400
TZOFFSETTO:-0500
TZNAME:EST
DTSTART:20231105T060000
END:STANDARD
END:VTIMEZONE
BEGIN:VEVENT
DTSTART;TZID=America/New_York:20230920T060000
DTEND;TZID=America/New_York:20230920T200000
DTSTAMP:20260422T002401
CREATED:20230822T173359Z
LAST-MODIFIED:20230822T173359Z
UID:3784-1695189600-1695240000@columbusmssoccer.org
SUMMARY:MUW Women's Training
DESCRIPTION:
URL:https://columbusmssoccer.org/calendar/muw-womens-training-9/
LOCATION:Family Pharmacy
END:VEVENT
BEGIN:VEVENT
DTSTART;TZID=America/New_York:20230920T190000
DTEND;TZID=America/New_York:20230920T220000
DTSTAMP:20260422T002401
CREATED:20230806T185105Z
LAST-MODIFIED:20230806T185105Z
UID:3647-1695236400-1695247200@columbusmssoccer.org
SUMMARY:MUW Men's Training
DESCRIPTION:
URL:https://columbusmssoccer.org/calendar/muw-mens-training-21/
LOCATION:Family Pharmacy
END:VEVENT
END:VCALENDAR