BEGIN:VCALENDAR
VERSION:2.0
PRODID:-//Columbus Soccer Organization - ECPv5.10.0//NONSGML v1.0//EN
CALSCALE:GREGORIAN
METHOD:PUBLISH
X-WR-CALNAME:Columbus Soccer Organization
X-ORIGINAL-URL:https://columbusmssoccer.org
X-WR-CALDESC:Events for Columbus Soccer Organization
BEGIN:VTIMEZONE
TZID:America/New_York
BEGIN:DAYLIGHT
TZOFFSETFROM:-0500
TZOFFSETTO:-0400
TZNAME:EDT
DTSTART:20230312T070000
END:DAYLIGHT
BEGIN:STANDARD
TZOFFSETFROM:-0400
TZOFFSETTO:-0500
TZNAME:EST
DTSTART:20231105T060000
END:STANDARD
END:VTIMEZONE
BEGIN:VEVENT
DTSTART;TZID=America/New_York:20230924T140000
DTEND;TZID=America/New_York:20230924T153000
DTSTAMP:20260422T041124
CREATED:20230806T192717Z
LAST-MODIFIED:20230806T192717Z
UID:3678-1695564000-1695569400@columbusmssoccer.org
SUMMARY:United U10 Boys Training
DESCRIPTION:
URL:https://columbusmssoccer.org/calendar/united-u10-boys-training-12/
LOCATION:FCA
END:VEVENT
BEGIN:VEVENT
DTSTART;TZID=America/New_York:20230924T140000
DTEND;TZID=America/New_York:20230924T160000
DTSTAMP:20260422T041124
CREATED:20230806T200916Z
LAST-MODIFIED:20230806T201156Z
UID:3714-1695564000-1695571200@columbusmssoccer.org
SUMMARY:United U13 Girls Training
DESCRIPTION:
URL:https://columbusmssoccer.org/calendar/united-u13-girls-training-4/
LOCATION:Family Pharmacy
END:VEVENT
BEGIN:VEVENT
DTSTART;TZID=America/New_York:20230924T150000
DTEND;TZID=America/New_York:20230924T170000
DTSTAMP:20260422T041124
CREATED:20230829T145357Z
LAST-MODIFIED:20230829T145357Z
UID:3898-1695567600-1695574800@columbusmssoccer.org
SUMMARY:Columbus United v. Tuscaloosa United U13 Girls
DESCRIPTION:
URL:https://columbusmssoccer.org/calendar/columbus-united-v-tuscaloosa-united-u13-girls/
LOCATION:SDI
END:VEVENT
END:VCALENDAR