BEGIN:VCALENDAR
VERSION:2.0
PRODID:-//Columbus Soccer Organization - ECPv5.10.0//NONSGML v1.0//EN
CALSCALE:GREGORIAN
METHOD:PUBLISH
X-WR-CALNAME:Columbus Soccer Organization
X-ORIGINAL-URL:https://columbusmssoccer.org
X-WR-CALDESC:Events for Columbus Soccer Organization
BEGIN:VTIMEZONE
TZID:America/New_York
BEGIN:DAYLIGHT
TZOFFSETFROM:-0500
TZOFFSETTO:-0400
TZNAME:EDT
DTSTART:20230312T070000
END:DAYLIGHT
BEGIN:STANDARD
TZOFFSETFROM:-0400
TZOFFSETTO:-0500
TZNAME:EST
DTSTART:20231105T060000
END:STANDARD
END:VTIMEZONE
BEGIN:VEVENT
DTSTART;TZID=America/New_York:20231010T170000
DTEND;TZID=America/New_York:20231010T210000
DTSTAMP:20260423T031754
CREATED:20230928T143922Z
LAST-MODIFIED:20230928T143922Z
UID:4001-1696957200-1696971600@columbusmssoccer.org
SUMMARY:Recreational Soccer
DESCRIPTION:Fields Used: Sprint Mart  #1\, #2\, #3\, Cadence \, Weathers\, Renasant\, FCA
URL:https://columbusmssoccer.org/calendar/recreational-soccer-4/
LOCATION:Roger Short Soccer Complex
END:VEVENT
BEGIN:VEVENT
DTSTART;TZID=America/New_York:20231010T180000
DTEND;TZID=America/New_York:20231010T193000
DTSTAMP:20260423T031754
CREATED:20231002T145839Z
LAST-MODIFIED:20231002T173458Z
UID:4074-1696960800-1696966200@columbusmssoccer.org
SUMMARY:United U10 Boys #1 & #2 Training
DESCRIPTION:
URL:https://columbusmssoccer.org/calendar/united-u10-boys-2-training-6/
LOCATION:BankFirst
END:VEVENT
BEGIN:VEVENT
DTSTART;TZID=America/New_York:20231010T180000
DTEND;TZID=America/New_York:20231010T193000
DTSTAMP:20260423T031754
CREATED:20231002T175410Z
LAST-MODIFIED:20231002T175410Z
UID:4127-1696960800-1696966200@columbusmssoccer.org
SUMMARY:United U10 Girls Training
DESCRIPTION:
URL:https://columbusmssoccer.org/calendar/united-u10-girls-training-35/
LOCATION:Renasant
END:VEVENT
BEGIN:VEVENT
DTSTART;TZID=America/New_York:20231010T180000
DTEND;TZID=America/New_York:20231010T193000
DTSTAMP:20260423T031754
CREATED:20231005T124639Z
LAST-MODIFIED:20231010T132720Z
UID:4140-1696960800-1696966200@columbusmssoccer.org
SUMMARY:United U15 Boys Training
DESCRIPTION:
URL:https://columbusmssoccer.org/calendar/united-u18-girls-training-7/
LOCATION:SDI
END:VEVENT
BEGIN:VEVENT
DTSTART;TZID=America/New_York:20231010T180000
DTEND;TZID=America/New_York:20231010T200000
DTSTAMP:20260423T031754
CREATED:20231007T173145Z
LAST-MODIFIED:20231007T173145Z
UID:4229-1696960800-1696968000@columbusmssoccer.org
SUMMARY:United U13 Girls Training
DESCRIPTION:
URL:https://columbusmssoccer.org/calendar/united-u13-girls-training-7/
LOCATION:SDI
END:VEVENT
BEGIN:VEVENT
DTSTART;TZID=America/New_York:20231010T190000
DTEND;TZID=America/New_York:20231010T220000
DTSTAMP:20260423T031754
CREATED:20231007T170311Z
LAST-MODIFIED:20231007T170311Z
UID:4183-1696964400-1696975200@columbusmssoccer.org
SUMMARY:MUW Men's Training
DESCRIPTION:
URL:https://columbusmssoccer.org/calendar/muw-mens-training-27/
LOCATION:Allegro
END:VEVENT
END:VCALENDAR