BEGIN:VCALENDAR
VERSION:2.0
PRODID:-//Columbus Soccer Organization - ECPv5.10.0//NONSGML v1.0//EN
CALSCALE:GREGORIAN
METHOD:PUBLISH
X-WR-CALNAME:Columbus Soccer Organization
X-ORIGINAL-URL:https://columbusmssoccer.org
X-WR-CALDESC:Events for Columbus Soccer Organization
BEGIN:VTIMEZONE
TZID:America/New_York
BEGIN:DAYLIGHT
TZOFFSETFROM:-0500
TZOFFSETTO:-0400
TZNAME:EDT
DTSTART:20230312T070000
END:DAYLIGHT
BEGIN:STANDARD
TZOFFSETFROM:-0400
TZOFFSETTO:-0500
TZNAME:EST
DTSTART:20231105T060000
END:STANDARD
END:VTIMEZONE
BEGIN:VEVENT
DTSTART;TZID=America/New_York:20231011T140000
DTEND;TZID=America/New_York:20231011T193000
DTSTAMP:20260421T135822
CREATED:20230719T223602Z
LAST-MODIFIED:20230722T210923Z
UID:3586-1697032800-1697052600@columbusmssoccer.org
SUMMARY:MUW Women's/Men's Soccer v.  Principia College
DESCRIPTION:
URL:https://columbusmssoccer.org/calendar/muw-womens-mens-soccer-v-principia-college/
LOCATION:Allegro
END:VEVENT
BEGIN:VEVENT
DTSTART;TZID=America/New_York:20231011T153000
DTEND;TZID=America/New_York:20231011T173000
DTSTAMP:20260421T135822
CREATED:20231007T172349Z
LAST-MODIFIED:20231007T172349Z
UID:4208-1697038200-1697045400@columbusmssoccer.org
SUMMARY:Heritage Boys Training
DESCRIPTION:
URL:https://columbusmssoccer.org/calendar/heritage-boys-training-3/
LOCATION:SDI
END:VEVENT
BEGIN:VEVENT
DTSTART;TZID=America/New_York:20231011T180000
DTEND;TZID=America/New_York:20231011T193000
DTSTAMP:20260421T135822
CREATED:20231002T172819Z
LAST-MODIFIED:20231002T172842Z
UID:4089-1697047200-1697052600@columbusmssoccer.org
SUMMARY:United U15 Boys Training
DESCRIPTION:
URL:https://columbusmssoccer.org/calendar/united-u15-boys-training-18/
LOCATION:Sprint Mart #1
END:VEVENT
BEGIN:VEVENT
DTSTART;TZID=America/New_York:20231011T180000
DTEND;TZID=America/New_York:20231011T193000
DTSTAMP:20260421T135822
CREATED:20231005T125710Z
LAST-MODIFIED:20231005T125710Z
UID:4159-1697047200-1697052600@columbusmssoccer.org
SUMMARY:United U12 Boys Training
DESCRIPTION:
URL:https://columbusmssoccer.org/calendar/united-u12-boys-training-24/
LOCATION:Weathers Field
END:VEVENT
END:VCALENDAR