BEGIN:VCALENDAR
VERSION:2.0
PRODID:-//Columbus Soccer Organization - ECPv5.10.0//NONSGML v1.0//EN
CALSCALE:GREGORIAN
METHOD:PUBLISH
X-WR-CALNAME:Columbus Soccer Organization
X-ORIGINAL-URL:https://columbusmssoccer.org
X-WR-CALDESC:Events for Columbus Soccer Organization
BEGIN:VTIMEZONE
TZID:America/New_York
BEGIN:DAYLIGHT
TZOFFSETFROM:-0500
TZOFFSETTO:-0400
TZNAME:EDT
DTSTART:20250309T070000
END:DAYLIGHT
BEGIN:STANDARD
TZOFFSETFROM:-0400
TZOFFSETTO:-0500
TZNAME:EST
DTSTART:20251102T060000
END:STANDARD
END:VTIMEZONE
BEGIN:VEVENT
DTSTART;TZID=America/New_York:20251023T160000
DTEND;TZID=America/New_York:20251023T173000
DTSTAMP:20260423T183848
CREATED:20250827T212144Z
LAST-MODIFIED:20251023T210512Z
UID:6546-1761235200-1761240600@columbusmssoccer.org
SUMMARY:MSMS Practice
DESCRIPTION:
URL:https://columbusmssoccer.org/calendar/msms-practice-9/
LOCATION:SDI
END:VEVENT
BEGIN:VEVENT
DTSTART;TZID=America/New_York:20251023T173000
DTEND;TZID=America/New_York:20251023T190000
DTSTAMP:20260423T183848
CREATED:20250924T181746Z
LAST-MODIFIED:20250924T181746Z
UID:6726-1761240600-1761246000@columbusmssoccer.org
SUMMARY:United U12 Boys Training
DESCRIPTION:
URL:https://columbusmssoccer.org/calendar/united-u12-boys-training-77/
LOCATION:BankFirst
END:VEVENT
BEGIN:VEVENT
DTSTART;TZID=America/New_York:20251023T180000
DTEND;TZID=America/New_York:20251023T193000
DTSTAMP:20260423T183848
CREATED:20250924T180401Z
LAST-MODIFIED:20250924T180401Z
UID:6692-1761242400-1761247800@columbusmssoccer.org
SUMMARY:United U12 Girls Training
DESCRIPTION:
URL:https://columbusmssoccer.org/calendar/united-u12-girls-training-55/
LOCATION:Bank of Vernon
END:VEVENT
BEGIN:VEVENT
DTSTART;TZID=America/New_York:20251023T180000
DTEND;TZID=America/New_York:20251023T200000
DTSTAMP:20260423T183848
CREATED:20250910T212206Z
LAST-MODIFIED:20250910T212206Z
UID:6608-1761242400-1761249600@columbusmssoccer.org
SUMMARY:U17 United Boys Training
DESCRIPTION:
URL:https://columbusmssoccer.org/calendar/u17-united-boys-training-13/
LOCATION:SDI
END:VEVENT
END:VCALENDAR