BEGIN:VCALENDAR
VERSION:2.0
PRODID:-//Columbus Soccer Organization - ECPv5.10.0//NONSGML v1.0//EN
CALSCALE:GREGORIAN
METHOD:PUBLISH
X-WR-CALNAME:Columbus Soccer Organization
X-ORIGINAL-URL:https://columbusmssoccer.org
X-WR-CALDESC:Events for Columbus Soccer Organization
BEGIN:VTIMEZONE
TZID:America/New_York
BEGIN:DAYLIGHT
TZOFFSETFROM:-0500
TZOFFSETTO:-0400
TZNAME:EDT
DTSTART:20250309T070000
END:DAYLIGHT
BEGIN:STANDARD
TZOFFSETFROM:-0400
TZOFFSETTO:-0500
TZNAME:EST
DTSTART:20251102T060000
END:STANDARD
END:VTIMEZONE
BEGIN:VEVENT
DTSTART;TZID=America/New_York:20251025T080000
DTEND;TZID=America/New_York:20251025T110000
DTSTAMP:20260421T215335
CREATED:20250827T201932Z
LAST-MODIFIED:20250827T201932Z
UID:6543-1761379200-1761390000@columbusmssoccer.org
SUMMARY:NAMI Northeast Mississippi Event
DESCRIPTION:
URL:https://columbusmssoccer.org/calendar/nami-northeast-mississippi-event/
LOCATION:Southside Concession Area
END:VEVENT
END:VCALENDAR