BEGIN:VCALENDAR
VERSION:2.0
PRODID:-//Columbus Soccer Organization - ECPv5.10.0//NONSGML v1.0//EN
CALSCALE:GREGORIAN
METHOD:PUBLISH
X-WR-CALNAME:Columbus Soccer Organization
X-ORIGINAL-URL:https://columbusmssoccer.org
X-WR-CALDESC:Events for Columbus Soccer Organization
BEGIN:VTIMEZONE
TZID:America/New_York
BEGIN:DAYLIGHT
TZOFFSETFROM:-0500
TZOFFSETTO:-0400
TZNAME:EDT
DTSTART:20250309T070000
END:DAYLIGHT
BEGIN:STANDARD
TZOFFSETFROM:-0400
TZOFFSETTO:-0500
TZNAME:EST
DTSTART:20251102T060000
END:STANDARD
END:VTIMEZONE
BEGIN:VEVENT
DTSTART;TZID=America/New_York:20251113T160000
DTEND;TZID=America/New_York:20251113T173000
DTSTAMP:20260422T002445
CREATED:20250827T212808Z
LAST-MODIFIED:20251113T143026Z
UID:6554-1763049600-1763055000@columbusmssoccer.org
SUMMARY:MSMS Practice
DESCRIPTION:
URL:https://columbusmssoccer.org/calendar/msms-practice-13/
LOCATION:Bank of Vernon
END:VEVENT
BEGIN:VEVENT
DTSTART;TZID=America/New_York:20251113T173000
DTEND;TZID=America/New_York:20251113T190000
DTSTAMP:20260422T002445
CREATED:20251113T143120Z
LAST-MODIFIED:20251113T143120Z
UID:6831-1763055000-1763060400@columbusmssoccer.org
SUMMARY:United Mid-Season Tryouts
DESCRIPTION:
URL:https://columbusmssoccer.org/calendar/united-mid-season-tryouts/
LOCATION:Renasant #1
END:VEVENT
BEGIN:VEVENT
DTSTART;TZID=America/New_York:20251113T173000
DTEND;TZID=America/New_York:20251113T193000
DTSTAMP:20260422T002445
CREATED:20251029T203303Z
LAST-MODIFIED:20251113T142827Z
UID:6793-1763055000-1763062200@columbusmssoccer.org
SUMMARY:United U12 Boys Training
DESCRIPTION:
URL:https://columbusmssoccer.org/calendar/united-u12-boys-training-82/
LOCATION:Bank of Vernon
END:VEVENT
BEGIN:VEVENT
DTSTART;TZID=America/New_York:20251113T173000
DTEND;TZID=America/New_York:20251113T193000
DTSTAMP:20260422T002445
CREATED:20251113T142634Z
LAST-MODIFIED:20251113T142634Z
UID:6827-1763055000-1763062200@columbusmssoccer.org
SUMMARY:United U10 Boys Training
DESCRIPTION:
URL:https://columbusmssoccer.org/calendar/united-u10-boys-training-32/
LOCATION:Renasant #2
END:VEVENT
BEGIN:VEVENT
DTSTART;TZID=America/New_York:20251113T173000
DTEND;TZID=America/New_York:20251113T193000
DTSTAMP:20260422T002445
CREATED:20251113T142903Z
LAST-MODIFIED:20251113T142903Z
UID:6829-1763055000-1763062200@columbusmssoccer.org
SUMMARY:U12 Boys All-Star Practice
DESCRIPTION:
URL:https://columbusmssoccer.org/calendar/u12-boys-all-star-practice-3/
LOCATION:Cadence Field
END:VEVENT
BEGIN:VEVENT
DTSTART;TZID=America/New_York:20251113T173000
DTEND;TZID=America/New_York:20251113T203000
DTSTAMP:20260422T002445
CREATED:20250910T215010Z
LAST-MODIFIED:20250910T215010Z
UID:6625-1763055000-1763065800@columbusmssoccer.org
SUMMARY:HA Boys Match
DESCRIPTION:
URL:https://columbusmssoccer.org/calendar/ha-boys-match/
LOCATION:SDI
END:VEVENT
END:VCALENDAR