BEGIN:VCALENDAR
VERSION:2.0
PRODID:-//Columbus Soccer Organization - ECPv5.10.0//NONSGML v1.0//EN
CALSCALE:GREGORIAN
METHOD:PUBLISH
X-WR-CALNAME:Columbus Soccer Organization
X-ORIGINAL-URL:https://columbusmssoccer.org
X-WR-CALDESC:Events for Columbus Soccer Organization
BEGIN:VTIMEZONE
TZID:America/New_York
BEGIN:DAYLIGHT
TZOFFSETFROM:-0500
TZOFFSETTO:-0400
TZNAME:EDT
DTSTART:20250309T070000
END:DAYLIGHT
BEGIN:STANDARD
TZOFFSETFROM:-0400
TZOFFSETTO:-0500
TZNAME:EST
DTSTART:20251102T060000
END:STANDARD
END:VTIMEZONE
BEGIN:VEVENT
DTSTART;TZID=America/New_York:20251117T143000
DTEND;TZID=America/New_York:20251117T173000
DTSTAMP:20260422T104546
CREATED:20251117T222014Z
LAST-MODIFIED:20251117T222014Z
UID:6834-1763389800-1763400600@columbusmssoccer.org
SUMMARY:HA Boys Practice
DESCRIPTION:
URL:https://columbusmssoccer.org/calendar/ha-boys-practice/
LOCATION:SDI
END:VEVENT
BEGIN:VEVENT
DTSTART;TZID=America/New_York:20251117T180000
DTEND;TZID=America/New_York:20251117T203000
DTSTAMP:20260422T104546
CREATED:20251117T225606Z
LAST-MODIFIED:20251117T225606Z
UID:6840-1763402400-1763411400@columbusmssoccer.org
SUMMARY:Vibrant Ultimate
DESCRIPTION:
URL:https://columbusmssoccer.org/calendar/vibrant-ultimate-17/
LOCATION:Bank of Vernon
END:VEVENT
END:VCALENDAR