BEGIN:VCALENDAR
VERSION:2.0
PRODID:-//Columbus Soccer Organization - ECPv5.10.0//NONSGML v1.0//EN
CALSCALE:GREGORIAN
METHOD:PUBLISH
X-WR-CALNAME:Columbus Soccer Organization
X-ORIGINAL-URL:https://columbusmssoccer.org
X-WR-CALDESC:Events for Columbus Soccer Organization
BEGIN:VTIMEZONE
TZID:America/New_York
BEGIN:DAYLIGHT
TZOFFSETFROM:-0500
TZOFFSETTO:-0400
TZNAME:EDT
DTSTART:20250309T070000
END:DAYLIGHT
BEGIN:STANDARD
TZOFFSETFROM:-0400
TZOFFSETTO:-0500
TZNAME:EST
DTSTART:20251102T060000
END:STANDARD
END:VTIMEZONE
BEGIN:VEVENT
DTSTART;TZID=America/New_York:20251201T170000
DTEND;TZID=America/New_York:20251201T220000
DTSTAMP:20260423T031755
CREATED:20250822T184229Z
LAST-MODIFIED:20250822T184229Z
UID:6526-1764608400-1764626400@columbusmssoccer.org
SUMMARY:Columbus Christmas Parade
DESCRIPTION:
URL:https://columbusmssoccer.org/calendar/columbus-christmas-parade-2/
LOCATION:Roger Short Soccer Complex
END:VEVENT
BEGIN:VEVENT
DTSTART;TZID=America/New_York:20251201T173000
DTEND;TZID=America/New_York:20251201T200000
DTSTAMP:20260423T031755
CREATED:20251126T230017Z
LAST-MODIFIED:20251126T230052Z
UID:6856-1764610200-1764619200@columbusmssoccer.org
SUMMARY:United U12 Girls Training
DESCRIPTION:
URL:https://columbusmssoccer.org/calendar/united-u12-girls-training-59/
LOCATION:Renasant
END:VEVENT
END:VCALENDAR