BEGIN:VCALENDAR
VERSION:2.0
PRODID:-//Columbus Soccer Organization - ECPv5.10.0//NONSGML v1.0//EN
CALSCALE:GREGORIAN
METHOD:PUBLISH
X-WR-CALNAME:Columbus Soccer Organization
X-ORIGINAL-URL:https://columbusmssoccer.org
X-WR-CALDESC:Events for Columbus Soccer Organization
BEGIN:VTIMEZONE
TZID:America/New_York
BEGIN:DAYLIGHT
TZOFFSETFROM:-0500
TZOFFSETTO:-0400
TZNAME:EDT
DTSTART:20260308T070000
END:DAYLIGHT
BEGIN:STANDARD
TZOFFSETFROM:-0400
TZOFFSETTO:-0500
TZNAME:EST
DTSTART:20261101T060000
END:STANDARD
END:VTIMEZONE
BEGIN:VEVENT
DTSTART;TZID=America/New_York:20260104T180000
DTEND;TZID=America/New_York:20260104T200000
DTSTAMP:20260420T223011
CREATED:20260119T223309Z
LAST-MODIFIED:20260119T223309Z
UID:6895-1767549600-1767556800@columbusmssoccer.org
SUMMARY:CSO Adult Pick-Up
DESCRIPTION:
URL:https://columbusmssoccer.org/calendar/cso-adult-pick-up/
LOCATION:BankFirst
END:VEVENT
BEGIN:VEVENT
DTSTART;TZID=America/New_York:20260105T180000
DTEND;TZID=America/New_York:20260105T200000
DTSTAMP:20260420T223011
CREATED:20260119T221836Z
LAST-MODIFIED:20260119T221836Z
UID:6879-1767636000-1767643200@columbusmssoccer.org
SUMMARY:Vibrant Ultimate
DESCRIPTION:
URL:https://columbusmssoccer.org/calendar/vibrant-ultimate-22/
LOCATION:Bank of Vernon
END:VEVENT
BEGIN:VEVENT
DTSTART;TZID=America/New_York:20260106T160000
DTEND;TZID=America/New_York:20260106T180000
DTSTAMP:20260420T223011
CREATED:20250827T215251Z
LAST-MODIFIED:20250827T215251Z
UID:6566-1767715200-1767722400@columbusmssoccer.org
SUMMARY:MSMS Practice
DESCRIPTION:
URL:https://columbusmssoccer.org/calendar/msms-practice-19/
LOCATION:SDI
END:VEVENT
BEGIN:VEVENT
DTSTART;TZID=America/New_York:20260108T160000
DTEND;TZID=America/New_York:20260108T180000
DTSTAMP:20260420T223011
CREATED:20250827T215322Z
LAST-MODIFIED:20250827T215322Z
UID:6568-1767888000-1767895200@columbusmssoccer.org
SUMMARY:MSMS Practice
DESCRIPTION:
URL:https://columbusmssoccer.org/calendar/msms-practice-20/
LOCATION:SDI
END:VEVENT
BEGIN:VEVENT
DTSTART;TZID=America/New_York:20260108T173000
DTEND;TZID=America/New_York:20260108T190000
DTSTAMP:20260420T223011
CREATED:20260119T224423Z
LAST-MODIFIED:20260119T224423Z
UID:6905-1767893400-1767898800@columbusmssoccer.org
SUMMARY:United U12 Girls Training
DESCRIPTION:
URL:https://columbusmssoccer.org/calendar/united-u12-girls-training-61/
END:VEVENT
BEGIN:VEVENT
DTSTART;TZID=America/New_York:20260111T180000
DTEND;TZID=America/New_York:20260111T200000
DTSTAMP:20260420T223011
CREATED:20260119T223340Z
LAST-MODIFIED:20260119T223340Z
UID:6897-1768154400-1768161600@columbusmssoccer.org
SUMMARY:CSO Adult Pick-Up
DESCRIPTION:
URL:https://columbusmssoccer.org/calendar/cso-adult-pick-up-2/
LOCATION:BankFirst
END:VEVENT
BEGIN:VEVENT
DTSTART;TZID=America/New_York:20260112T180000
DTEND;TZID=America/New_York:20260112T193000
DTSTAMP:20260420T223011
CREATED:20260119T224503Z
LAST-MODIFIED:20260119T224503Z
UID:6907-1768240800-1768246200@columbusmssoccer.org
SUMMARY:United U12 Girls Training
DESCRIPTION:
URL:https://columbusmssoccer.org/calendar/united-u12-girls-training-62/
END:VEVENT
BEGIN:VEVENT
DTSTART;TZID=America/New_York:20260112T180000
DTEND;TZID=America/New_York:20260112T200000
DTSTAMP:20260420T223011
CREATED:20260119T221913Z
LAST-MODIFIED:20260119T221913Z
UID:6881-1768240800-1768248000@columbusmssoccer.org
SUMMARY:Vibrant Ultimate
DESCRIPTION:
URL:https://columbusmssoccer.org/calendar/vibrant-ultimate-23/
LOCATION:Bank of Vernon
END:VEVENT
BEGIN:VEVENT
DTSTART;TZID=America/New_York:20260113T160000
DTEND;TZID=America/New_York:20260113T180000
DTSTAMP:20260420T223011
CREATED:20250827T215359Z
LAST-MODIFIED:20250827T215359Z
UID:6570-1768320000-1768327200@columbusmssoccer.org
SUMMARY:MSMS Practice
DESCRIPTION:
URL:https://columbusmssoccer.org/calendar/msms-practice-21/
LOCATION:SDI
END:VEVENT
BEGIN:VEVENT
DTSTART;TZID=America/New_York:20260115T160000
DTEND;TZID=America/New_York:20260115T180000
DTSTAMP:20260420T223011
CREATED:20250827T215454Z
LAST-MODIFIED:20250827T215454Z
UID:6572-1768492800-1768500000@columbusmssoccer.org
SUMMARY:MSMS Practice
DESCRIPTION:
URL:https://columbusmssoccer.org/calendar/msms-practice-22/
LOCATION:SDI
END:VEVENT
BEGIN:VEVENT
DTSTART;TZID=America/New_York:20260115T173000
DTEND;TZID=America/New_York:20260115T190000
DTSTAMP:20260420T223011
CREATED:20260119T224553Z
LAST-MODIFIED:20260119T224553Z
UID:6909-1768498200-1768503600@columbusmssoccer.org
SUMMARY:United U12 Girls Training
DESCRIPTION:
URL:https://columbusmssoccer.org/calendar/united-u12-girls-training-63/
END:VEVENT
BEGIN:VEVENT
DTSTART;TZID=America/New_York:20260118T180000
DTEND;TZID=America/New_York:20260118T200000
DTSTAMP:20260420T223011
CREATED:20260119T223417Z
LAST-MODIFIED:20260119T223417Z
UID:6899-1768759200-1768766400@columbusmssoccer.org
SUMMARY:CSO Adult Pick-Up
DESCRIPTION:
URL:https://columbusmssoccer.org/calendar/cso-adult-pick-up-3/
LOCATION:Renasant
END:VEVENT
BEGIN:VEVENT
DTSTART;TZID=America/New_York:20260119T173000
DTEND;TZID=America/New_York:20260119T190000
DTSTAMP:20260420T223011
CREATED:20260119T222406Z
LAST-MODIFIED:20260119T222406Z
UID:6887-1768843800-1768849200@columbusmssoccer.org
SUMMARY:United U12 Boys training
DESCRIPTION:
URL:https://columbusmssoccer.org/calendar/united-u12-boys-training-83/
LOCATION:Weathers Field
END:VEVENT
BEGIN:VEVENT
DTSTART;TZID=America/New_York:20260119T180000
DTEND;TZID=America/New_York:20260119T193000
DTSTAMP:20260420T223011
CREATED:20260119T224645Z
LAST-MODIFIED:20260119T224645Z
UID:6911-1768845600-1768851000@columbusmssoccer.org
SUMMARY:United U12 Girls Training
DESCRIPTION:
URL:https://columbusmssoccer.org/calendar/united-u12-girls-training-64/
LOCATION:Cadence Field
END:VEVENT
BEGIN:VEVENT
DTSTART;TZID=America/New_York:20260119T180000
DTEND;TZID=America/New_York:20260119T200000
DTSTAMP:20260420T223011
CREATED:20260119T222139Z
LAST-MODIFIED:20260119T222139Z
UID:6883-1768845600-1768852800@columbusmssoccer.org
SUMMARY:Vibrant Ultimate
DESCRIPTION:
URL:https://columbusmssoccer.org/calendar/vibrant-ultimate-24/
LOCATION:Bank of Vernon
END:VEVENT
BEGIN:VEVENT
DTSTART;TZID=America/New_York:20260120T160000
DTEND;TZID=America/New_York:20260120T180000
DTSTAMP:20260420T223011
CREATED:20250827T215531Z
LAST-MODIFIED:20250827T215531Z
UID:6574-1768924800-1768932000@columbusmssoccer.org
SUMMARY:MSMS Practice
DESCRIPTION:
URL:https://columbusmssoccer.org/calendar/msms-practice-23/
LOCATION:SDI
END:VEVENT
BEGIN:VEVENT
DTSTART;TZID=America/New_York:20260122T173000
DTEND;TZID=America/New_York:20260122T190000
DTSTAMP:20260420T223011
CREATED:20260119T225000Z
LAST-MODIFIED:20260119T225000Z
UID:6913-1769103000-1769108400@columbusmssoccer.org
SUMMARY:United U12 Girls Training
DESCRIPTION:
URL:https://columbusmssoccer.org/calendar/united-u12-girls-training-65/
LOCATION:Weathers Field
END:VEVENT
BEGIN:VEVENT
DTSTART;TZID=America/New_York:20260127T173000
DTEND;TZID=America/New_York:20260127T190000
DTSTAMP:20260420T223011
CREATED:20260119T225052Z
LAST-MODIFIED:20260119T225052Z
UID:6915-1769535000-1769540400@columbusmssoccer.org
SUMMARY:United U12 Girls Training
DESCRIPTION:
URL:https://columbusmssoccer.org/calendar/united-u12-girls-training-66/
LOCATION:Weathers Field
END:VEVENT
BEGIN:VEVENT
DTSTART;TZID=America/New_York:20260129T173000
DTEND;TZID=America/New_York:20260129T190000
DTSTAMP:20260420T223011
CREATED:20260119T223200Z
LAST-MODIFIED:20260119T223200Z
UID:6893-1769707800-1769713200@columbusmssoccer.org
SUMMARY:United U12 Boys training
DESCRIPTION:
URL:https://columbusmssoccer.org/calendar/united-u12-boys-training-86/
LOCATION:Weathers Field
END:VEVENT
BEGIN:VEVENT
DTSTART;TZID=America/New_York:20260129T173000
DTEND;TZID=America/New_York:20260129T190000
DTSTAMP:20260420T223011
CREATED:20260119T225152Z
LAST-MODIFIED:20260119T225152Z
UID:6917-1769707800-1769713200@columbusmssoccer.org
SUMMARY:United U12 Girls Training
DESCRIPTION:
URL:https://columbusmssoccer.org/calendar/united-u12-girls-training-67/
LOCATION:Weathers Field
END:VEVENT
END:VCALENDAR